BEGIN:VCALENDAR
VERSION:2.0
PRODID:-//Ricci Sports - ECPv6.15.20//NONSGML v1.0//EN
CALSCALE:GREGORIAN
METHOD:PUBLISH
X-ORIGINAL-URL:https://ricci-sports.com
X-WR-CALDESC:Veranstaltungen für Ricci Sports
REFRESH-INTERVAL;VALUE=DURATION:PT1H
X-Robots-Tag:noindex
X-PUBLISHED-TTL:PT1H
BEGIN:VTIMEZONE
TZID:UTC
BEGIN:STANDARD
TZOFFSETFROM:+0000
TZOFFSETTO:+0000
TZNAME:UTC
DTSTART:20210101T000000
END:STANDARD
END:VTIMEZONE
BEGIN:VEVENT
DTSTART;TZID=UTC:20240501T180000
DTEND;TZID=UTC:20240501T200000
DTSTAMP:20260422T123252
CREATED:20240403T094303Z
LAST-MODIFIED:20240403T095209Z
UID:4569-1714586400-1714593600@ricci-sports.com
SUMMARY:Le Velo La Femme Ausfahrt für Frauen
DESCRIPTION:    \nRennrad-begeisterte Frauen und Mädels aufgepasst! Wir treffen uns auch in diesem Jahr wieder wöchentlich jeden Mittwoch ab 18.00 Uhr für gemeinsame Ausfahrten.\nGanz gleich\, ob du schon viele oder eher weniger Kilometer in den Beinen hast\, hier kommst du auf deine Kosten. \nTreffpunkt: an der Rheinterrasse Düsseldorf um 18:00 Uhr \nAbfahrt: pünktlich um 18.10 Uhr \nFahrtdauer: ca. 2 Stunden (abhängig vom Tageslicht) \nDurchschnitts-Geschwindigkeit: 24-25 km/h\n(Wir richten uns in der Regel nach der langsamsten Fahrerin.) \nÜber unsere Facebook-Gruppe kannst du mit uns Kontakt aufnehmen und bleibst immer up to date: \nGerne nehmen wir dich auch in unsere WhatsApp Gruppe auf\, melde dich unter 0172-9474690 bei Richie. \n \nUnser eigenes Trikot: Für Mitfahrerinnen: 59\,00 EUR (sonst 69\,00 EUR)\nerhältlich bei Ricci Sports in den Größen S\, M und L \n  \nBei unseren Touren sind immer wieder viele nette Mädels am Start!
URL:https://ricci-sports.com/event/le-velo-la-femme-ausfahrt-fuer-frauen-7/
END:VEVENT
BEGIN:VEVENT
DTSTART;TZID=UTC:20240424T180000
DTEND;TZID=UTC:20240424T200000
DTSTAMP:20260422T123252
CREATED:20240403T094035Z
LAST-MODIFIED:20240403T094342Z
UID:4565-1713981600-1713988800@ricci-sports.com
SUMMARY:Le Velo La Femme Ausfahrt für Frauen
DESCRIPTION:    \nRennrad-begeisterte Frauen und Mädels aufgepasst! Wir treffen uns auch in diesem Jahr wieder wöchentlich jeden Mittwoch ab 18.00 Uhr für gemeinsame Ausfahrten.\nGanz gleich\, ob du schon viele oder eher weniger Kilometer in den Beinen hast\, hier kommst du auf deine Kosten. \nTreffpunkt: an der Rheinterrasse Düsseldorf um 18:00 Uhr \nAbfahrt: pünktlich um 18.10 Uhr \nFahrtdauer: ca. 2 Stunden (abhängig vom Tageslicht) \nDurchschnitts-Geschwindigkeit: 24-25 km/h\n(Wir richten uns in der Regel nach der langsamsten Fahrerin.) \nÜber unsere Facebook-Gruppe kannst du mit uns Kontakt aufnehmen und bleibst immer up to date: \nGerne nehmen wir dich auch in unsere WhatsApp Gruppe auf\, melde dich unter 0172-9474690 bei Richie. \n \nUnser eigenes Trikot: Für Mitfahrerinnen: 59\,00 EUR (sonst 69\,00 EUR)\nerhältlich bei Ricci Sports in den Größen S\, M und L \n  \nBei unseren Touren sind immer wieder viele nette Mädels am Start!
URL:https://ricci-sports.com/event/le-velo-la-femme-ausfahrt-fuer-frauen-6/
END:VEVENT
BEGIN:VEVENT
DTSTART;TZID=UTC:20240417T180000
DTEND;TZID=UTC:20240417T200000
DTSTAMP:20260422T123252
CREATED:20240403T093859Z
LAST-MODIFIED:20240403T094356Z
UID:4563-1713376800-1713384000@ricci-sports.com
SUMMARY:Le Velo La Femme Ausfahrt für Frauen
DESCRIPTION:    \nRennrad-begeisterte Frauen und Mädels aufgepasst! Wir treffen uns auch in diesem Jahr wieder wöchentlich jeden Mittwoch ab 18.00 Uhr für gemeinsame Ausfahrten.\nGanz gleich\, ob du schon viele oder eher weniger Kilometer in den Beinen hast\, hier kommst du auf deine Kosten. \nTreffpunkt: an der Rheinterrasse Düsseldorf um 18:00 Uhr \nAbfahrt: pünktlich um 18.10 Uhr \nFahrtdauer: ca. 2 Stunden (abhängig vom Tageslicht) \nDurchschnitts-Geschwindigkeit: 24-25 km/h\n(Wir richten uns in der Regel nach der langsamsten Fahrerin.) \nÜber unsere Facebook-Gruppe kannst du mit uns Kontakt aufnehmen und bleibst immer up to date: \nGerne nehmen wir dich auch in unsere WhatsApp Gruppe auf\, melde dich unter 0172-9474690 bei Richie. \n \nUnser eigenes Trikot: Für Mitfahrerinnen: 59\,00 EUR (sonst 69\,00 EUR)\nerhältlich bei Ricci Sports in den Größen S\, M und L \n  \nBei unseren Touren sind immer wieder viele nette Mädels am Start!
URL:https://ricci-sports.com/event/le-velo-la-femme-ausfahrt-fuer-frauen-5/
END:VEVENT
BEGIN:VEVENT
DTSTART;TZID=UTC:20240410T180000
DTEND;TZID=UTC:20240410T200000
DTSTAMP:20260422T123252
CREATED:20230428T094059Z
LAST-MODIFIED:20240403T094408Z
UID:4460-1712772000-1712779200@ricci-sports.com
SUMMARY:Le Velo La Femme Ausfahrt für Frauen
DESCRIPTION:    \nRennrad-begeisterte Frauen und Mädels aufgepasst! Wir treffen uns auch in diesem Jahr wieder wöchentlich jeden Mittwoch ab 18.00 Uhr für gemeinsame Ausfahrten.\nGanz gleich\, ob du schon viele oder eher weniger Kilometer in den Beinen hast\, hier kommst du auf deine Kosten. \nTreffpunkt: an der Rheinterrasse Düsseldorf um 18:00 Uhr \nAbfahrt: pünktlich um 18.10 Uhr \nFahrtdauer: ca. 2 Stunden (abhängig vom Tageslicht) \nDurchschnitts-Geschwindigkeit: 24-25 km/h\n(Wir richten uns in der Regel nach der langsamsten Fahrerin.) \nÜber unsere Facebook-Gruppe kannst du mit uns Kontakt aufnehmen und bleibst immer up to date: \nGerne nehmen wir dich auch in unsere WhatsApp Gruppe auf\, melde dich unter 0172-9474690 bei Richie. \n \nUnser eigenes Trikot: Für Mitfahrerinnen: 59\,00 EUR (sonst 69\,00 EUR)\nerhältlich bei Ricci Sports in den Größen S\, M und L \n  \nBei unseren Touren sind immer wieder viele nette Mädels am Start!
URL:https://ricci-sports.com/event/le-velo-la-femme-ausfahrt-fuer-frauen-4/
END:VEVENT
BEGIN:VEVENT
DTSTART;TZID=UTC:20230531T183000
DTEND;TZID=UTC:20230531T203000
DTSTAMP:20260422T123252
CREATED:20230428T094149Z
LAST-MODIFIED:20230428T101806Z
UID:4462-1685557800-1685565000@ricci-sports.com
SUMMARY:
DESCRIPTION:    \nRennrad-begeisterte Frauen und Mädels aufgepasst! Wir treffen uns auch in diesem Jahr wieder wöchentlich jeden Mittwoch ab 18.20 Uhr für gemeinsame Ausfahrten.\nGanz gleich\, ob du schon viele oder eher weniger Kilometer in den Beinen hast\, hier kommst du auf deine Kosten. \nTreffpunkt: an der Rheinterrasse Düsseldorf um 18:20 Uhr \nAbfahrt: pünktlich um 18.30 Uhr \nFahrtdauer: bis ca. 20:30 Uhr \nÜber unsere Facebook-Gruppe kannst du mit uns Kontakt aufnehmen und bleibst immer up to date: \nGerne nehmen wir dich auch in unsere WhatsApp Gruppe auf\, melde dich unter 0172-9474690 bei Richie. \n \nUnser eigenes Trikot: Für Mitfahrerinnen: 59\,00 EUR (sonst 69\,00 EUR)\nerhältlich bei Ricci Sports in den Größen S\, M und L \n  \nBei unseren Touren sind immer wieder viele nette Mädels am Start!
URL:https://ricci-sports.com/event/4462/
END:VEVENT
BEGIN:VEVENT
DTSTART;TZID=UTC:20230524T183000
DTEND;TZID=UTC:20230524T203000
DTSTAMP:20260422T123252
CREATED:20230428T094010Z
LAST-MODIFIED:20230428T094010Z
UID:4458-1684953000-1684960200@ricci-sports.com
SUMMARY:Le Velo La Femme Ausfahrt für Frauen
DESCRIPTION:    \nRennrad-begeisterte Frauen und Mädels aufgepasst! Wir treffen uns auch in diesem Jahr wieder wöchentlich jeden Mittwoch ab 18.20 Uhr für gemeinsame Ausfahrten.\nGanz gleich\, ob du schon viele oder eher weniger Kilometer in den Beinen hast\, hier kommst du auf deine Kosten. \nTreffpunkt: an der Rheinterrasse Düsseldorf um 18:20 Uhr \nAbfahrt: pünktlich um 18.30 Uhr \nFahrtdauer: bis ca. 20:30 Uhr \nÜber unsere Facebook-Gruppe kannst du mit uns Kontakt aufnehmen und bleibst immer up to date: \nGerne nehmen wir dich auch in unsere WhatsApp Gruppe auf\, melde dich unter 0172-9474690 bei Richie. \n \nUnser eigenes Trikot: Für Mitfahrerinnen: 59\,00 EUR (sonst 69\,00 EUR)\nerhältlich bei Ricci Sports in den Größen S\, M und L \n  \nBei unseren Touren sind immer wieder viele nette Mädels am Start!
URL:https://ricci-sports.com/event/le-velo-la-femme-ausfahrt-fuer-frauen-3/
END:VEVENT
BEGIN:VEVENT
DTSTART;TZID=UTC:20230517T183000
DTEND;TZID=UTC:20230517T203000
DTSTAMP:20260422T123252
CREATED:20230428T093843Z
LAST-MODIFIED:20230428T093843Z
UID:4456-1684348200-1684355400@ricci-sports.com
SUMMARY:Le Velo La Femme Ausfahrt für Frauen
DESCRIPTION:    \nRennrad-begeisterte Frauen und Mädels aufgepasst! Wir treffen uns auch in diesem Jahr wieder wöchentlich jeden Mittwoch ab 18.20 Uhr für gemeinsame Ausfahrten.\nGanz gleich\, ob du schon viele oder eher weniger Kilometer in den Beinen hast\, hier kommst du auf deine Kosten. \nTreffpunkt: an der Rheinterrasse Düsseldorf um 18:20 Uhr \nAbfahrt: pünktlich um 18.30 Uhr \nFahrtdauer: bis ca. 20:30 Uhr \nÜber unsere Facebook-Gruppe kannst du mit uns Kontakt aufnehmen und bleibst immer up to date: \nGerne nehmen wir dich auch in unsere WhatsApp Gruppe auf\, melde dich unter 0172-9474690 bei Richie. \n \nUnser eigenes Trikot: Für Mitfahrerinnen: 59\,00 EUR (sonst 69\,00 EUR)\nerhältlich bei Ricci Sports in den Größen S\, M und L \n  \nBei unseren Touren sind immer wieder viele nette Mädels am Start!
URL:https://ricci-sports.com/event/le-velo-la-femme-ausfahrt-fuer-frauen-2/
END:VEVENT
BEGIN:VEVENT
DTSTART;TZID=UTC:20230510T183000
DTEND;TZID=UTC:20230510T203000
DTSTAMP:20260422T123252
CREATED:20230428T093708Z
LAST-MODIFIED:20230428T093724Z
UID:4452-1683743400-1683750600@ricci-sports.com
SUMMARY:Le Velo La Femme Ausfahrt für Frauen
DESCRIPTION:    \nRennrad-begeisterte Frauen und Mädels aufgepasst! Wir treffen uns auch in diesem Jahr wieder wöchentlich jeden Mittwoch ab 18.20 Uhr für gemeinsame Ausfahrten.\nGanz gleich\, ob du schon viele oder eher weniger Kilometer in den Beinen hast\, hier kommst du auf deine Kosten. \nTreffpunkt: an der Rheinterrasse Düsseldorf um 18:20 Uhr \nAbfahrt: pünktlich um 18.30 Uhr \nFahrtdauer: bis ca. 20:30 Uhr \nÜber unsere Facebook-Gruppe kannst du mit uns Kontakt aufnehmen und bleibst immer up to date: \nGerne nehmen wir dich auch in unsere WhatsApp Gruppe auf\, melde dich unter 0172-9474690 bei Richie. \n \nUnser eigenes Trikot: Für Mitfahrerinnen: 59\,00 EUR (sonst 69\,00 EUR)\nerhältlich bei Ricci Sports in den Größen S\, M und L \n  \nBei unseren Touren sind immer wieder viele nette Mädels am Start!
URL:https://ricci-sports.com/event/4452/
END:VEVENT
BEGIN:VEVENT
DTSTART;TZID=UTC:20230503T183000
DTEND;TZID=UTC:20230503T203000
DTSTAMP:20260422T123252
CREATED:20230428T092724Z
LAST-MODIFIED:20230428T093609Z
UID:4443-1683138600-1683145800@ricci-sports.com
SUMMARY:Le Velo La Femme Ausfahrt für Frauen
DESCRIPTION:    \nRennrad-begeisterte Frauen und Mädels aufgepasst! Wir treffen uns auch in diesem Jahr wieder wöchentlich jeden Mittwoch ab 18.20 Uhr für gemeinsame Ausfahrten.\nGanz gleich\, ob du schon viele oder eher weniger Kilometer in den Beinen hast\, hier kommst du auf deine Kosten. \nTreffpunkt: an der Rheinterrasse Düsseldorf um 18:20 Uhr \nAbfahrt: pünktlich um 18.30 Uhr \nFahrtdauer: bis ca. 20:30 Uhr \nÜber unsere Facebook-Gruppe kannst du mit uns Kontakt aufnehmen und bleibst immer up to date: \nGerne nehmen wir dich auch in unsere WhatsApp Gruppe auf\, melde dich unter 0172-9474690 bei Richie. \n \nUnser eigenes Trikot: Für Mitfahrerinnen: 59\,00 EUR (sonst 69\,00 EUR)\nerhältlich bei Ricci Sports in den Größen S\, M und L \n  \nBei unseren Touren sind immer wieder viele nette Mädels am Start! \n  \n 
URL:https://ricci-sports.com/event/le-velo-la-femme-ausfahrt-fuer-frauen/
END:VEVENT
BEGIN:VEVENT
DTSTART;TZID=UTC:20230426T183000
DTEND;TZID=UTC:20230426T203000
DTSTAMP:20260422T123252
CREATED:20230428T092141Z
LAST-MODIFIED:20230428T092326Z
UID:4441-1682533800-1682541000@ricci-sports.com
SUMMARY:Le Velo La Femme Ausfahrt für Frauen
DESCRIPTION:Unsere zweite Frühjahrsausfahrt war recht kalt. Nur eine Frau war am Start: „Meike 3000“ ist tapfer mitgefahren\, trotz der frischen Temperaturen hatten wir sehr viel Spaß.
URL:https://ricci-sports.com/event/le-velo-la-femme-ausfahrt-2/
END:VEVENT
BEGIN:VEVENT
DTSTART;TZID=UTC:20230419T180000
DTEND;TZID=UTC:20230419T200000
DTSTAMP:20260422T123252
CREATED:20230428T091931Z
LAST-MODIFIED:20230428T092333Z
UID:4439-1681927200-1681934400@ricci-sports.com
SUMMARY:Le Velo la Femme Ausfahrt für Frauen
DESCRIPTION:Unsere erste Ausfahrt des Jahres war ziemlich kalt\, „nur die harten kommen in den Garten“\, mit 8 Mädels hatten wir eine schöne\, aber windige Tour\, die am Fortuna Büdchen am Rhein ihren Ausklang fand.
URL:https://ricci-sports.com/event/le-velo-la-femme-ausfahrt/
END:VEVENT
BEGIN:VEVENT
DTSTART;TZID=UTC:20220831T180000
DTEND;TZID=UTC:20220831T200000
DTSTAMP:20260422T123252
CREATED:20220419T131901Z
LAST-MODIFIED:20221019T200409Z
UID:4267-1661968800-1661976000@ricci-sports.com
SUMMARY:Ausfahrt für Frauen 31.8.2022
DESCRIPTION:  \n \nRennrad-begeisterte Frauen und Mädels aufgepasst! Wir treffen uns bei Ricci Sports wöchentlich jeden Mittwoch ab 18.00 Uhr  für gemeinsame Ausfahrten. Ganz gleich\, ob du schon viele oder eher weniger Kilometer in den Beinen hast\, hier kommst du auf deine Kosten. \nTreffpunkt: an der Rheinterrasse Düsseldorf um 17:50 Uhr \nAbfahrt: pünktlich um 18.00 Uhr \n \nUnser eigenes Trikot: Für Mitfahrerinnen: 59\,00 EUR (sonst 69\,00 EUR)\nerhältlich bei Ricci Sports \n \nBei unseren Touren sind immer wieder viele nette Mädels am Start! \n  \n \n 
URL:https://ricci-sports.com/event/ausfahrten-fuer-frauen-jeden-mittwoch-4/
LOCATION:Rheinterrasse\, Cecilienalee\, Düsseldorf\, NRW\, Deutschland
CATEGORIES:Sport
ORGANIZER;CN="Ricci Sports":MAILTO:racebikes(at)t-online.de
END:VEVENT
BEGIN:VEVENT
DTSTART;TZID=UTC:20220824T180000
DTEND;TZID=UTC:20220824T200000
DTSTAMP:20260422T123252
CREATED:20220419T131343Z
LAST-MODIFIED:20221019T200457Z
UID:4264-1661364000-1661371200@ricci-sports.com
SUMMARY:Ausfahrten für Frauen 24.8.2022
DESCRIPTION:  \n \nRennrad-begeisterte Frauen und Mädels aufgepasst! Wir treffen uns bei Ricci Sports wöchentlich jeden Mittwoch ab 18.00 Uhr  für gemeinsame Ausfahrten. Ganz gleich\, ob du schon viele oder eher weniger Kilometer in den Beinen hast\, hier kommst du auf deine Kosten. \nTreffpunkt: an der Rheinterrasse Düsseldorf um 17:50 Uhr \nAbfahrt: pünktlich um 18.00 Uhr \n \nUnser eigenes Trikot: Für Mitfahrerinnen: 59\,00 EUR (sonst 69\,00 EUR)\nerhältlich bei Ricci Sports \n \nBei unseren Touren sind immer wieder viele nette Mädels am Start! \n  \n \n 
URL:https://ricci-sports.com/event/ausfahrten-fuer-frauen-jeden-mittwoch-3/
LOCATION:Rheinterrasse\, Cecilienalee\, Düsseldorf\, NRW\, Deutschland
CATEGORIES:Sport
ORGANIZER;CN="Ricci Sports":MAILTO:racebikes(at)t-online.de
END:VEVENT
BEGIN:VEVENT
DTSTART;TZID=UTC:20220817T080000
DTEND;TZID=UTC:20220817T170000
DTSTAMP:20260422T123252
CREATED:20220419T130537Z
LAST-MODIFIED:20221019T200505Z
UID:4255-1660723200-1660755600@ricci-sports.com
SUMMARY:Ausfahrten für Frauen 17.8.2022
DESCRIPTION:  \n   \nRennrad-begeisterte Frauen und Mädels aufgepasst! Wir treffen uns bei Ricci Sports wöchentlich jeden Mittwoch ab 18.00 Uhr  für gemeinsame Ausfahrten. Ganz gleich\, ob du schon viele oder eher weniger Kilometer in den Beinen hast\, hier kommst du auf deine Kosten. \nTreffpunkt: an der Rheinterrasse Düsseldorf um 17:50 Uhr \nAbfahrt: pünktlich um 18.00 Uhr \n \nUnser eigenes Trikot: Für Mitfahrerinnen: 59\,00 EUR (sonst 69\,00 EUR)\nerhältlich bei Ricci Sports \n  \nBei unseren Touren sind immer wieder viele nette Mädels am Start! \n  \n \n 
URL:https://ricci-sports.com/event/rennrad-ausfahrt-fuer-frauen/
LOCATION:Rheinterrasse\, Cecilienalee\, Düsseldorf\, NRW\, Deutschland
CATEGORIES:Sport
ORGANIZER;CN="Ricci Sports":MAILTO:racebikes(at)t-online.de
END:VEVENT
BEGIN:VEVENT
DTSTART;TZID=UTC:20220810T180000
DTEND;TZID=UTC:20220810T200000
DTSTAMP:20260422T123252
CREATED:20220419T130946Z
LAST-MODIFIED:20221019T200512Z
UID:4259-1660154400-1660161600@ricci-sports.com
SUMMARY:Ausfahrten für Frauen 10.8.2022
DESCRIPTION:  \n  \n   \nRennrad-begeisterte Frauen und Mädels aufgepasst! Wir treffen uns bei Ricci Sports wöchentlich jeden Mittwoch ab 18.00 Uhr  für gemeinsame Ausfahrten. Ganz gleich\, ob du schon viele oder eher weniger Kilometer in den Beinen hast\, hier kommst du auf deine Kosten. \nTreffpunkt: an der Rheinterrasse Düsseldorf um 17:50 Uhr \nAbfahrt: pünktlich um 18.00 Uhr \n \nUnser eigenes Trikot: Für Mitfahrerinnen: 59\,00 EUR (sonst 69\,00 EUR)\nerhältlich bei Ricci Sports \n  \nBei unseren Touren sind immer wieder viele nette Mädels am Start! \n 
URL:https://ricci-sports.com/event/ausfahrten-fuer-frauen-jeden-mittwoch/
LOCATION:Rheinterrasse\, Cecilienalee\, Düsseldorf\, NRW\, Deutschland
CATEGORIES:Sport
ORGANIZER;CN="Ricci Sports":MAILTO:racebikes(at)t-online.de
END:VEVENT
BEGIN:VEVENT
DTSTART;TZID=UTC:20220803T180000
DTEND;TZID=UTC:20220803T200000
DTSTAMP:20260422T123252
CREATED:20190925T081453Z
LAST-MODIFIED:20221019T200519Z
UID:547-1659549600-1659556800@ricci-sports.com
SUMMARY:Ausfahrten für Frauen 3.8.2022
DESCRIPTION:  \n \nRennrad-begeisterte Frauen und Mädels aufgepasst! Wir treffen uns bei Ricci Sports wöchentlich jeden Mittwoch ab 18.00 Uhr  für gemeinsame Ausfahrten. Ganz gleich\, ob du schon viele oder eher weniger Kilometer in den Beinen hast\, hier kommst du auf deine Kosten. \nTreffpunkt: an der Rheinterrasse Düsseldorf um 17:50 Uhr \nAbfahrt: pünktlich um 18.00 Uhr \n \nUnser eigenes Trikot: Für Mitfahrerinnen: 59\,00 EUR (sonst 69\,00 EUR)\nerhältlich bei Ricci Sports \n \nBei unseren Touren sind immer wieder viele nette Mädels am Start! \n 
URL:https://ricci-sports.com/event/tuesday-bikepacking-adventures-in-central-park/
LOCATION:Rheinterrasse\, Cecilienalee\, Düsseldorf\, NRW\, Deutschland
CATEGORIES:Sport
ATTACH;FMTTYPE=image/jpeg:https://ricci-sports.com/wp-content/uploads/2019/09/2Eileen-Gray_3314958b.jpg
ORGANIZER;CN="Ricci Sports":MAILTO:racebikes(at)t-online.de
END:VEVENT
BEGIN:VEVENT
DTSTART;TZID=UTC:20220727T180000
DTEND;TZID=UTC:20220727T180000
DTSTAMP:20260422T123252
CREATED:20220419T131227Z
LAST-MODIFIED:20221019T200525Z
UID:4262-1658944800-1658944800@ricci-sports.com
SUMMARY:Ausfahrten für Frauen 27.7.2022
DESCRIPTION:  \n \nRennrad-begeisterte Frauen und Mädels aufgepasst! Wir treffen uns bei Ricci Sports wöchentlich jeden Mittwoch ab 18.00 Uhr  für gemeinsame Ausfahrten. Ganz gleich\, ob du schon viele oder eher weniger Kilometer in den Beinen hast\, hier kommst du auf deine Kosten. \nTreffpunkt: an der Rheinterrasse Düsseldorf um 17:50 Uhr \nAbfahrt: pünktlich um 18.00 Uhr \n \nUnser eigenes Trikot: Für Mitfahrerinnen: 59\,00 EUR (sonst 69\,00 EUR)\nerhältlich bei Ricci Sports \n \nBei unseren Touren sind immer wieder viele nette Mädels am Start! \n  \n \n  \n 
URL:https://ricci-sports.com/event/ausfahrten-fuer-frauen-jeden-mittwoch-2/
LOCATION:Ricci Sports\, Rheinterrasse\, Düsseldorf\, NRW\, 40239\, Deutschland
CATEGORIES:Sport
ORGANIZER;CN="Ricci Sports":MAILTO:racebikes(at)t-online.de
END:VEVENT
BEGIN:VEVENT
DTSTART;TZID=UTC:20220601T180000
DTEND;TZID=UTC:20220601T200000
DTSTAMP:20260422T123252
CREATED:20220419T132000Z
LAST-MODIFIED:20221019T200532Z
UID:4269-1654106400-1654113600@ricci-sports.com
SUMMARY:
DESCRIPTION:Rennrad-begeisterte Frauen und Mädels aufgepasst! Wir treffen uns bei Ricci Sports wöchentlich jeden Mittwoch ab 18.00 Uhr  für gemeinsame Ausfahrten. Ganz gleich\, ob du schon viele oder eher weniger Kilometer in den Beinen hast\, hier kommst du auf deine Kosten. \nTreffpunkt: an der Rheinterrasse Düsseldorf um 17:50 Uhr \nAbfahrt: pünktlich um 18.00 Uhr \n  \n 
URL:https://ricci-sports.com/event/4269/
LOCATION:Rheinterrasse\, Cecilienalee\, Düsseldorf\, NRW\, Deutschland
ORGANIZER;CN="Ricci Sports":MAILTO:racebikes(at)t-online.de
END:VEVENT
END:VCALENDAR